BEGIN:VCALENDAR
VERSION:2.0
PRODID:-//Cobb Women in Business - ECPv6.15.20//NONSGML v1.0//EN
CALSCALE:GREGORIAN
METHOD:PUBLISH
X-ORIGINAL-URL:https://cobbwomen.com
X-WR-CALDESC:Events for Cobb Women in Business
REFRESH-INTERVAL;VALUE=DURATION:PT1H
X-Robots-Tag:noindex
X-PUBLISHED-TTL:PT1H
BEGIN:VTIMEZONE
TZID:America/New_York
BEGIN:DAYLIGHT
TZOFFSETFROM:-0500
TZOFFSETTO:-0400
TZNAME:EDT
DTSTART:20240310T070000
END:DAYLIGHT
BEGIN:STANDARD
TZOFFSETFROM:-0400
TZOFFSETTO:-0500
TZNAME:EST
DTSTART:20241103T060000
END:STANDARD
BEGIN:DAYLIGHT
TZOFFSETFROM:-0500
TZOFFSETTO:-0400
TZNAME:EDT
DTSTART:20250309T070000
END:DAYLIGHT
BEGIN:STANDARD
TZOFFSETFROM:-0400
TZOFFSETTO:-0500
TZNAME:EST
DTSTART:20251102T060000
END:STANDARD
BEGIN:DAYLIGHT
TZOFFSETFROM:-0500
TZOFFSETTO:-0400
TZNAME:EDT
DTSTART:20260308T070000
END:DAYLIGHT
BEGIN:STANDARD
TZOFFSETFROM:-0400
TZOFFSETTO:-0500
TZNAME:EST
DTSTART:20261101T060000
END:STANDARD
BEGIN:DAYLIGHT
TZOFFSETFROM:-0500
TZOFFSETTO:-0400
TZNAME:EDT
DTSTART:20270314T070000
END:DAYLIGHT
BEGIN:STANDARD
TZOFFSETFROM:-0400
TZOFFSETTO:-0500
TZNAME:EST
DTSTART:20271107T060000
END:STANDARD
END:VTIMEZONE
BEGIN:VEVENT
DTSTART;TZID=America/New_York:20260416T100000
DTEND;TZID=America/New_York:20260416T120000
DTSTAMP:20260420T104617
CREATED:20260219T175406Z
LAST-MODIFIED:20260320T152436Z
UID:10000120-1776333600-1776340800@cobbwomen.com
SUMMARY:Roswell Networking
DESCRIPTION:Topic: Save the World while Saving Money (with Dawn Coe)\nElevator Pitch Challenge: Incorporate into your pitch what cleaning item you spend the most money on. \nEach event has limited space. Please pay in advance to hold your reservation.\nLight refreshments provided.\nThis chapter meets on the 2nd Thursday of each month. \nOptional: Bring a door prize (avg cost $5-$20) and you’ll get an extra door prize ticket!
URL:https://cobbwomen.com/event/roswell-04-26/
LOCATION:RISE Coffee & Tea\, 4651 Sandy Plains #116\, Roswell\, GA\, 30062\, United States
CATEGORIES:Live,Networking
ATTACH;FMTTYPE=image/png:https://cobbwomen.com/wp-content/uploads/2024/11/roswell-chapter.png
END:VEVENT
BEGIN:VEVENT
DTSTART;TZID=America/New_York:20260312T100000
DTEND;TZID=America/New_York:20260312T120000
DTSTAMP:20260420T104617
CREATED:20251114T191422Z
LAST-MODIFIED:20251114T192511Z
UID:10000084-1773309600-1773316800@cobbwomen.com
SUMMARY:Roswell Networking
DESCRIPTION:Topic: TBD\nElevator Pitch Challenge: TBD \nEach event has limited space. Please pay in advance to hold your reservation.\nLight refreshments provided.\nThis chapter meets on the 2nd Thursday of each month. \nOptional: Bring a door prize (avg cost $5-$20) and you’ll get an extra door prize ticket!
URL:https://cobbwomen.com/event/roswell-03-2026/
LOCATION:RISE Coffee & Tea\, 4651 Sandy Plains #116\, Roswell\, GA\, 30062\, United States
CATEGORIES:Live,Networking
ATTACH;FMTTYPE=image/png:https://cobbwomen.com/wp-content/uploads/2024/11/roswell-chapter.png
END:VEVENT
BEGIN:VEVENT
DTSTART;TZID=America/New_York:20260305T190000
DTEND;TZID=America/New_York:20260305T210000
DTSTAMP:20260420T104617
CREATED:20260227T214353Z
LAST-MODIFIED:20260227T214750Z
UID:10000128-1772737200-1772744400@cobbwomen.com
SUMMARY:RISE After Dark
DESCRIPTION:Join us for a night of unforgettable sing-along favorites with Back Of The Bus! For 17 years\, Back Of The Bus has been bringing the good vibes with classic hits from the 60s\, 70s\, and 80s. This special acoustic-style evening will feature: \n Timeless classics you know and love\n Crowd-friendly sing-alongs\n Great background vibes for connecting and unwinding\n Harmonies that’ll take you back \nGrab a friend\, bring your best singing voice\, and come enjoy a laid-back\, joy-filled evening of music and community. The coffee bar will be open all evening. Ask about an “Affogato\,” coffee with ice cream! \nThis event is organized by RISE (not by CWIB)\, and is complimentary for Mug Club members and $13.26 for non-members. Click here for tickets: https://www.eventbrite.com/e/rise-after-dark-tickets-1983497564610
URL:https://cobbwomen.com/event/rise-after-dark/
LOCATION:RISE Coffee & Tea\, 4651 Sandy Plains #116\, Roswell\, GA\, 30062\, United States
CATEGORIES:Live,Social
ATTACH;FMTTYPE=image/png:https://cobbwomen.com/wp-content/uploads/2026/02/social-event-music.png
END:VEVENT
BEGIN:VEVENT
DTSTART;TZID=America/New_York:20260219T100000
DTEND;TZID=America/New_York:20260219T113000
DTSTAMP:20260420T104617
CREATED:20260105T211014Z
LAST-MODIFIED:20260105T211604Z
UID:10000106-1771495200-1771500600@cobbwomen.com
SUMMARY:Book Club
DESCRIPTION:We invite you to join us on a continual learning journey! We’ll read books and discuss what was most meaningful or helpful to us. It’s not required that you finish the book in order to participate in the discussion. This is a free event\, open to all in the CWIB Facebook group. \nFebruary Book Selection:\n \n\nThe Magic of Thinking Big by David Schwartz\n\n\nCheck these sites for used books: \nhttps://www.betterworldbooks.com/\n(You can drop off any used books in the bin behind Lucia’s on the corner of Hwy92/Sandy Plains across the street from RISE Coffee & Tea or search for a drop-off spot near you on their website. They share books around the world and use money from sales to support literacy non-profits.) \nhttps://www.goodwillbooks.com/
URL:https://cobbwomen.com/event/book-club-02-26/
LOCATION:RISE Coffee & Tea\, 4651 Sandy Plains #116\, Roswell\, GA\, 30062\, United States
CATEGORIES:Live,Social
ATTACH;FMTTYPE=image/png:https://cobbwomen.com/wp-content/uploads/2023/10/WB-Book-CLub-1000-x-500-px.png
END:VEVENT
BEGIN:VEVENT
DTSTART;TZID=America/New_York:20260212T100000
DTEND;TZID=America/New_York:20260212T120000
DTSTAMP:20260420T104617
CREATED:20251114T191028Z
LAST-MODIFIED:20260127T152952Z
UID:10000083-1770890400-1770897600@cobbwomen.com
SUMMARY:Roswell Networking
DESCRIPTION:Topic: “Two Truths: I love You and I Need Space” By Julia Rusert\, MSW\, Ph.D. \n\nElevator Pitch Challenge: Name one thing you adore about your business and one thing that’s challenging about your business (example: I love helping people plan for their future AND the paperwork drives me crazy) \nEach event has limited space. Please pay in advance to hold your reservation.\nLight refreshments provided.\nThis chapter meets on the 2nd Thursday of each month. \nOptional: Bring a door prize (avg cost $5-$20) and you’ll get an extra door prize ticket!
URL:https://cobbwomen.com/event/roswell-02-2026/
LOCATION:RISE Coffee & Tea\, 4651 Sandy Plains #116\, Roswell\, GA\, 30062\, United States
CATEGORIES:Live,Networking
ATTACH;FMTTYPE=image/png:https://cobbwomen.com/wp-content/uploads/2024/11/roswell-chapter.png
END:VEVENT
BEGIN:VEVENT
DTSTART;TZID=America/New_York:20260108T100000
DTEND;TZID=America/New_York:20260108T120000
DTSTAMP:20260420T104617
CREATED:20251104T175228Z
LAST-MODIFIED:20260105T175329Z
UID:10000070-1767866400-1767873600@cobbwomen.com
SUMMARY:Roswell Networking
DESCRIPTION:Topic: Easy Resolutions that Stick  \nSpeaker: Dr. Sasha Tran \nElevator Pitch Challenge: Share a resolution you’ve kept \nEach event has limited space. Please pay in advance to hold your reservation.\nLight refreshments provided.\nThis chapter meets on the 2nd Thursday of each month. \nOptional: Bring a door prize (avg cost $5-$20) and you’ll get an extra door prize ticket!
URL:https://cobbwomen.com/event/roswell-01-26/
LOCATION:RISE Coffee & Tea\, 4651 Sandy Plains #116\, Roswell\, GA\, 30062\, United States
CATEGORIES:Live,Networking
ATTACH;FMTTYPE=image/png:https://cobbwomen.com/wp-content/uploads/2024/11/roswell-chapter.png
END:VEVENT
BEGIN:VEVENT
DTSTART;TZID=America/New_York:20251212T100000
DTEND;TZID=America/New_York:20251212T120000
DTSTAMP:20260420T104617
CREATED:20251205T182104Z
LAST-MODIFIED:20251205T182226Z
UID:10000100-1765533600-1765540800@cobbwomen.com
SUMMARY:Roswell Networking
DESCRIPTION:Special Instructions\nBring a wrapped ornament/holiday decor item (not a door prize) valued at $5 or less for our ornament exchange.\nCWIB will be providing a small gift for all attendees!  \nTopic: Making the Season Bright with Melinda Schmiedeknecht\nElevator Pitch Challenge: Include a favorite Christmas gift from the past in your pitch. \nEach event has limited space. Please pay in advance to hold your reservation.\nThis chapter meets on the 2nd Thursday of each month.
URL:https://cobbwomen.com/event/roswell-2025-12-b/
LOCATION:RISE Coffee & Tea\, 4651 Sandy Plains #116\, Roswell\, GA\, 30062\, United States
CATEGORIES:Live,Networking
ATTACH;FMTTYPE=image/png:https://cobbwomen.com/wp-content/uploads/2024/11/roswell-chapter.png
END:VEVENT
BEGIN:VEVENT
DTSTART;TZID=America/New_York:20251211T100000
DTEND;TZID=America/New_York:20251211T120000
DTSTAMP:20260420T104617
CREATED:20251104T174156Z
LAST-MODIFIED:20251205T182506Z
UID:10000069-1765447200-1765454400@cobbwomen.com
SUMMARY:Roswell Networking
DESCRIPTION:Special Instructions\nBring a wrapped ornament/holiday decor item (not a door prize) valued at $5 or less for our ornament exchange.\nCWIB will be providing a small gift for all attendees!  \nTopic: Making the Season Bright with Melinda Schmiedeknecht\nElevator Pitch Challenge: Include a favorite Christmas gift from the past in your pitch. \nEach event has limited space. Please pay in advance to hold your reservation.\nThis chapter meets on the 2nd Thursday of each month.
URL:https://cobbwomen.com/event/roswell-12-2025/
LOCATION:RISE Coffee & Tea\, 4651 Sandy Plains #116\, Roswell\, GA\, 30062\, United States
CATEGORIES:Live,Networking
ATTACH;FMTTYPE=image/png:https://cobbwomen.com/wp-content/uploads/2024/11/roswell-chapter.png
END:VEVENT
BEGIN:VEVENT
DTSTART;TZID=America/New_York:20251113T100000
DTEND;TZID=America/New_York:20251113T120000
DTSTAMP:20260420T104617
CREATED:20251103T173145Z
LAST-MODIFIED:20251106T143141Z
UID:10000005-1763028000-1763035200@cobbwomen.com
SUMMARY:Roswell Networking
DESCRIPTION:Topic: The Power of Pause: Reclaiming Peace in a World That Won’t Slow Down with Jessica Otieno \nElevator Pitch Challenge: If your body could talk\, what would it say right now? \nEach event has limited space. Please pay in advance to hold your reservation.\nThis group meets on the SECOND Thursday of the month. \nOptional: Bring a door prize (avg cost $5-$20) and you’ll get an extra door prize ticket!
URL:https://cobbwomen.com/event/roswell-11-25/
LOCATION:RISE Coffee & Tea\, 4651 Sandy Plains #116\, Roswell\, GA\, 30062\, United States
CATEGORIES:Live,Networking
ATTACH;FMTTYPE=image/png:https://cobbwomen.com/wp-content/uploads/2024/11/roswell-chapter.png
END:VEVENT
END:VCALENDAR