BEGIN:VCALENDAR
VERSION:2.0
PRODID:-//Cobb Women in Business - ECPv6.15.20//NONSGML v1.0//EN
CALSCALE:GREGORIAN
METHOD:PUBLISH
X-WR-CALNAME:Cobb Women in Business
X-ORIGINAL-URL:https://cobbwomen.com
X-WR-CALDESC:Events for Cobb Women in Business
REFRESH-INTERVAL;VALUE=DURATION:PT1H
X-Robots-Tag:noindex
X-PUBLISHED-TTL:PT1H
BEGIN:VTIMEZONE
TZID:America/New_York
BEGIN:DAYLIGHT
TZOFFSETFROM:-0500
TZOFFSETTO:-0400
TZNAME:EDT
DTSTART:20250309T070000
END:DAYLIGHT
BEGIN:STANDARD
TZOFFSETFROM:-0400
TZOFFSETTO:-0500
TZNAME:EST
DTSTART:20251102T060000
END:STANDARD
BEGIN:DAYLIGHT
TZOFFSETFROM:-0500
TZOFFSETTO:-0400
TZNAME:EDT
DTSTART:20260308T070000
END:DAYLIGHT
BEGIN:STANDARD
TZOFFSETFROM:-0400
TZOFFSETTO:-0500
TZNAME:EST
DTSTART:20261101T060000
END:STANDARD
BEGIN:DAYLIGHT
TZOFFSETFROM:-0500
TZOFFSETTO:-0400
TZNAME:EDT
DTSTART:20270314T070000
END:DAYLIGHT
BEGIN:STANDARD
TZOFFSETFROM:-0400
TZOFFSETTO:-0500
TZNAME:EST
DTSTART:20271107T060000
END:STANDARD
END:VTIMEZONE
BEGIN:VEVENT
DTSTART;TZID=America/New_York:20260514T100000
DTEND;TZID=America/New_York:20260514T120000
DTSTAMP:20260425T110337
CREATED:20260219T175540Z
LAST-MODIFIED:20260422T133614Z
UID:10000121-1778752800-1778760000@cobbwomen.com
SUMMARY:Roswell Networking
DESCRIPTION:Topic: Joyfully Eliminating Self Sabotage with Sarah Krippner\nElevator Pitch Challenge: Share a song that makes you happy every time you hear it \nEach event has limited space. Please pay in advance to hold your reservation.\nLight refreshments provided.\nThis chapter meets on the 2nd Thursday of each month. \nOptional: Bring a door prize (avg cost $5-$20) and you’ll get an extra door prize ticket!
URL:https://cobbwomen.com/event/roswell-05-26/
LOCATION:RISE Coffee & Tea\, 4651 Sandy Plains #116\, Roswell\, GA\, 30062\, United States
CATEGORIES:Live,Networking
ATTACH;FMTTYPE=image/png:https://cobbwomen.com/wp-content/uploads/2024/11/roswell-chapter.png
END:VEVENT
BEGIN:VEVENT
DTSTART;TZID=America/New_York:20260611T100000
DTEND;TZID=America/New_York:20260611T120000
DTSTAMP:20260425T110337
CREATED:20260219T175708Z
LAST-MODIFIED:20260219T175754Z
UID:10000122-1781172000-1781179200@cobbwomen.com
SUMMARY:Roswell Networking
DESCRIPTION:Topic: TBD\nElevator Pitch Challenge: TBD \nEach event has limited space. Please pay in advance to hold your reservation.\nLight refreshments provided.\nThis chapter meets on the 2nd Thursday of each month. \nOptional: Bring a door prize (avg cost $5-$20) and you’ll get an extra door prize ticket!
URL:https://cobbwomen.com/event/roswell-06-26/
LOCATION:RISE Coffee & Tea\, 4651 Sandy Plains #116\, Roswell\, GA\, 30062\, United States
CATEGORIES:Live,Networking
ATTACH;FMTTYPE=image/png:https://cobbwomen.com/wp-content/uploads/2024/11/roswell-chapter.png
END:VEVENT
END:VCALENDAR